BEGIN:VCALENDAR
VERSION:2.0
PRODID:-//Bundesverband Digitale Wirtschaft (BVDW) e.V. //NONSGML Events //EN
CALSCALE:GREGORIAN
X-WR-CALNAME:Bundesverband Digitale Wirtschaft (BVDW) e.V.
BEGIN:VEVENT
CREATED:20230718T213849Z
UID:5539
DTEND;VALUE=DATE:20231010T140000Z
DTSTART;VALUE=DATE:20231010T090000Z
DTSTAMP:20260420T192014Z
LOCATION:Hamburg
DESCRIPTION:
SUMMARY:Gemeinsame Sitzung der  Fokusgruppe Programmatic Advertising &amp; dem Ressort Data Economy
ORGANIZER:BVDW
URL;VALUE=URI:https://www.bvdw.org/events/gemeinsame-sitzung-fokusgruppe-programmatic-advertising-ressort-data-economy/
TRANSP:OPAQUE
BEGIN:VALARM
ACTION:DISPLAY
TRIGGER;VALUE=DATE-TIME:
DESCRIPTION:Reminder for Gemeinsame Sitzung der  Fokusgruppe Programmatic Advertising &amp; dem Ressort Data Economy
END:VALARM
END:VEVENT
END:VCALENDAR