BEGIN:VCALENDAR
VERSION:2.0
PRODID:-//Bundesverband Digitale Wirtschaft (BVDW) e.V. //NONSGML Events //EN
CALSCALE:GREGORIAN
X-WR-CALNAME:Bundesverband Digitale Wirtschaft (BVDW) e.V.
BEGIN:VEVENT
CREATED:20230722T213849Z
UID:5531
DTEND;VALUE=DATE:20231130T100000Z
DTSTART;VALUE=DATE:20231130T090000Z
DTSTAMP:20260420T073308Z
LOCATION:Online
DESCRIPTION:
SUMMARY:Search Boosts – Mehr Power für Deine SEA-Kampagnen
ORGANIZER:BVDW
URL;VALUE=URI:https://www.bvdw.org/events/webinar-search-boosts-30-11-2023/
TRANSP:OPAQUE
BEGIN:VALARM
ACTION:DISPLAY
TRIGGER;VALUE=DATE-TIME:
DESCRIPTION:Reminder for Search Boosts – Mehr Power für Deine SEA-Kampagnen
END:VALARM
END:VEVENT
END:VCALENDAR