BEGIN:VCALENDAR
VERSION:2.0
PRODID:-//Bundesverband Digitale Wirtschaft (BVDW) e.V. //NONSGML Events //EN
CALSCALE:GREGORIAN
X-WR-CALNAME:Bundesverband Digitale Wirtschaft (BVDW) e.V.
BEGIN:VEVENT
CREATED:20230722T213849Z
UID:5529
DTEND;VALUE=DATE:20231207T150000Z
DTSTART;VALUE=DATE:20231207T093000Z
DTSTAMP:20260420T071938Z
LOCATION:Online
DESCRIPTION:
SUMMARY:Sitzung Online-Vermarkterkreis (OVK)
ORGANIZER:BVDW
URL;VALUE=URI:https://www.bvdw.org/events/sitzung-online-vermarkterkreis-ovk/
TRANSP:OPAQUE
BEGIN:VALARM
ACTION:DISPLAY
TRIGGER;VALUE=DATE-TIME:
DESCRIPTION:Reminder for Sitzung Online-Vermarkterkreis (OVK)
END:VALARM
END:VEVENT
END:VCALENDAR