BEGIN:VCALENDAR
VERSION:2.0
PRODID:-//Bundesverband Digitale Wirtschaft (BVDW) e.V. //NONSGML Events //EN
CALSCALE:GREGORIAN
X-WR-CALNAME:Bundesverband Digitale Wirtschaft (BVDW) e.V.
BEGIN:VEVENT
CREATED:20260416T084412Z
UID:50426
DTEND;VALUE=DATE:20260921T210000Z
DTSTART;VALUE=DATE:20260921T110000Z
DTSTAMP:20260423T094557Z
LOCATION:Berlin
DESCRIPTION:
SUMMARY:European Affiliate Award
ORGANIZER:European Affiliate Award
URL;VALUE=URI:https://www.bvdw.org/events/european-affiliate-award/
TRANSP:OPAQUE
BEGIN:VALARM
ACTION:DISPLAY
TRIGGER;VALUE=DATE-TIME:
DESCRIPTION:Reminder for European Affiliate Award
END:VALARM
END:VEVENT
END:VCALENDAR