BEGIN:VCALENDAR
VERSION:2.0
PRODID:-//Bundesverband Digitale Wirtschaft (BVDW) e.V. //NONSGML Events //EN
CALSCALE:GREGORIAN
X-WR-CALNAME:Bundesverband Digitale Wirtschaft (BVDW) e.V.
BEGIN:VEVENT
CREATED:20260202T145838Z
UID:47123
DTEND;VALUE=DATE:20261029T100000Z
DTSTART;VALUE=DATE:20261029T090000Z
DTSTAMP:20260422T101452Z
LOCATION:Online
DESCRIPTION:
SUMMARY:Search Boosts: Nicht jeder Nutzer ist dein Kunde!
ORGANIZER:BVDW
URL;VALUE=URI:https://www.bvdw.org/events/search-boosts-nicht-jeder-nutzer-ist-dein-kunde/
TRANSP:OPAQUE
BEGIN:VALARM
ACTION:DISPLAY
TRIGGER;VALUE=DATE-TIME:
DESCRIPTION:Reminder for Search Boosts: Nicht jeder Nutzer ist dein Kunde!
END:VALARM
END:VEVENT
END:VCALENDAR