BEGIN:VCALENDAR
VERSION:2.0
PRODID:-//Bundesverband Digitale Wirtschaft (BVDW) e.V. //NONSGML Events //EN
CALSCALE:GREGORIAN
X-WR-CALNAME:Bundesverband Digitale Wirtschaft (BVDW) e.V.
BEGIN:VEVENT
CREATED:20250314T101939Z
UID:34217
DTEND;VALUE=DATE:20250708T200000Z
DTSTART;VALUE=DATE:20250708T080000Z
DTSTAMP:20260420T205938Z
LOCATION:Google Berlin, Tucholskystraße 2, 10117 Berlin
DESCRIPTION:
SUMMARY:BVDW Retail Media Festival Vol. 3
ORGANIZER:BVDW
URL;VALUE=URI:https://www.bvdw.org/events/bvdw-retail-media-festival-vol-3/
TRANSP:OPAQUE
BEGIN:VALARM
ACTION:DISPLAY
TRIGGER;VALUE=DATE-TIME:
DESCRIPTION:Reminder for BVDW Retail Media Festival Vol. 3
END:VALARM
END:VEVENT
END:VCALENDAR