BEGIN:VCALENDAR
VERSION:2.0
PRODID:-//Bundesverband Digitale Wirtschaft (BVDW) e.V. //NONSGML Events //EN
CALSCALE:GREGORIAN
X-WR-CALNAME:Bundesverband Digitale Wirtschaft (BVDW) e.V.
BEGIN:VEVENT
CREATED:20240319T153205Z
UID:16887
DTEND;VALUE=DATE:20240612T200000Z
DTSTART;VALUE=DATE:20240612T080000Z
DTSTAMP:20260422T110015Z
LOCATION:FRONT ROW GROUP, Klostertor 1, 20097 Hamburg
DESCRIPTION:
SUMMARY:BVDW Retail Media Summer Festival 
ORGANIZER:BVDW
URL;VALUE=URI:https://www.bvdw.org/events/bvdw-retail-media-summer-festival/
TRANSP:OPAQUE
BEGIN:VALARM
ACTION:DISPLAY
TRIGGER;VALUE=DATE-TIME:
DESCRIPTION:Reminder for BVDW Retail Media Summer Festival 
END:VALARM
END:VEVENT
END:VCALENDAR