BEGIN:VCALENDAR
VERSION:2.0
PRODID:-//Bundesverband Digitale Wirtschaft (BVDW) e.V. //NONSGML Events //EN
CALSCALE:GREGORIAN
X-WR-CALNAME:Bundesverband Digitale Wirtschaft (BVDW) e.V.
BEGIN:VEVENT
CREATED:20240318T134608Z
UID:16814
DTEND;VALUE=DATE:20240516T210000Z
DTSTART;VALUE=DATE:20240516T160000Z
DTSTAMP:20260423T200301Z
LOCATION:Berlin
DESCRIPTION:
SUMMARY:Deutscher Digital Award 2024
ORGANIZER:BVDW
URL;VALUE=URI:https://www.bvdw.org/events/deutscher-digital-award-2024/
TRANSP:OPAQUE
BEGIN:VALARM
ACTION:DISPLAY
TRIGGER;VALUE=DATE-TIME:
DESCRIPTION:Reminder for Deutscher Digital Award 2024
END:VALARM
END:VEVENT
END:VCALENDAR