BEGIN:VCALENDAR
VERSION:2.0
PRODID:-//Bundesverband Digitale Wirtschaft (BVDW) e.V. //NONSGML Events //EN
CALSCALE:GREGORIAN
X-WR-CALNAME:Bundesverband Digitale Wirtschaft (BVDW) e.V.
BEGIN:VEVENT
CREATED:20240311T145224Z
UID:16579
DTEND;VALUE=DATE:20240627T090000Z
DTSTART;VALUE=DATE:20240627T080000Z
DTSTAMP:20260419T204516Z
LOCATION:Online
DESCRIPTION:
SUMMARY:Search Boosts – Suchmaschinenoptimierung für Online Shops
ORGANIZER:BVDW
URL;VALUE=URI:https://www.bvdw.org/events/search-boosts-suchmaschinenoptimierung-fuer-online-shops/
TRANSP:OPAQUE
BEGIN:VALARM
ACTION:DISPLAY
TRIGGER;VALUE=DATE-TIME:
DESCRIPTION:Reminder for Search Boosts – Suchmaschinenoptimierung für Online Shops
END:VALARM
END:VEVENT
END:VCALENDAR