BEGIN:VCALENDAR
VERSION:2.0
PRODID:-//Bundesverband Digitale Wirtschaft (BVDW) e.V. //NONSGML Events //EN
CALSCALE:GREGORIAN
X-WR-CALNAME:Bundesverband Digitale Wirtschaft (BVDW) e.V.
BEGIN:VEVENT
CREATED:20240202T161759Z
UID:15195
DTEND;VALUE=DATE:20240626T140000Z
DTSTART;VALUE=DATE:20240618T070000Z
DTSTAMP:20260422T094728Z
LOCATION:Blended Learning (online und in München)
DESCRIPTION:
SUMMARY:Data Manager
ORGANIZER:Akademie der Deutschen Medien
URL;VALUE=URI:https://www.bvdw.org/events/data-manager/
TRANSP:OPAQUE
BEGIN:VALARM
ACTION:DISPLAY
TRIGGER;VALUE=DATE-TIME:
DESCRIPTION:Reminder for Data Manager
END:VALARM
END:VEVENT
END:VCALENDAR