BEGIN:VCALENDAR
VERSION:2.0
PRODID:-//Bundesverband Digitale Wirtschaft (BVDW) e.V. //NONSGML Events //EN
CALSCALE:GREGORIAN
X-WR-CALNAME:Bundesverband Digitale Wirtschaft (BVDW) e.V.
BEGIN:VEVENT
CREATED:20231220T090722Z
UID:12448
DTEND;VALUE=DATE:20240123T210000Z
DTSTART;VALUE=DATE:20240123T163000Z
DTSTAMP:20260419T213931Z
LOCATION:The Cloud One Hotel Hamburg-Kontorhaus&lt;br&gt;Willy-Brandt-Str. 20-22&lt;br&gt;20457 Hamburg
DESCRIPTION:
SUMMARY:Netzwerktreffen von ‘Women in Programmatic’
ORGANIZER:BVDW
URL;VALUE=URI:https://www.bvdw.org/events/netzwerktreffen-von-women-in-programmatic/
TRANSP:OPAQUE
BEGIN:VALARM
ACTION:DISPLAY
TRIGGER;VALUE=DATE-TIME:
DESCRIPTION:Reminder for Netzwerktreffen von ‘Women in Programmatic’
END:VALARM
END:VEVENT
END:VCALENDAR