BEGIN:VCALENDAR
VERSION:2.0
PRODID:-//Bundesverband Digitale Wirtschaft (BVDW) e.V. //NONSGML Events //EN
CALSCALE:GREGORIAN
X-WR-CALNAME:Bundesverband Digitale Wirtschaft (BVDW) e.V.
BEGIN:VEVENT
CREATED:20231121T143801Z
UID:11679
DTEND;VALUE=DATE:20231205T150000Z
DTSTART;VALUE=DATE:20231205T090000Z
DTSTAMP:20260420T072539Z
LOCATION:Deutsche Telekom Headquarters, Bonn
DESCRIPTION:
SUMMARY:Sitzung Ressort Digital Responsibility
ORGANIZER:BVDW
URL;VALUE=URI:https://www.bvdw.org/events/sitzung-ressort-digital-responsibility/
TRANSP:OPAQUE
BEGIN:VALARM
ACTION:DISPLAY
TRIGGER;VALUE=DATE-TIME:
DESCRIPTION:Reminder for Sitzung Ressort Digital Responsibility
END:VALARM
END:VEVENT
END:VCALENDAR