BEGIN:VCALENDAR
VERSION:2.0
PRODID:-//Bundesverband Digitale Wirtschaft (BVDW) e.V. //NONSGML Events //EN
CALSCALE:GREGORIAN
X-WR-CALNAME:Bundesverband Digitale Wirtschaft (BVDW) e.V.
BEGIN:VEVENT
CREATED:20231030T143240Z
UID:11237
DTEND;VALUE=DATE:20240221T150000Z
DTSTART;VALUE=DATE:20240219T080000Z
DTSTAMP:20260419T222521Z
LOCATION:Live-Online-Training
DESCRIPTION:
SUMMARY:Usability Manager – Ein Intensivkurs mit Zertifikat
ORGANIZER:Akademie der Deutschen Medien
URL;VALUE=URI:https://www.bvdw.org/events/usability-manager-ein-intensivkurs-mit-zertifikat/
TRANSP:OPAQUE
BEGIN:VALARM
ACTION:DISPLAY
TRIGGER;VALUE=DATE-TIME:
DESCRIPTION:Reminder for Usability Manager – Ein Intensivkurs mit Zertifikat
END:VALARM
END:VEVENT
END:VCALENDAR